BEGIN:VCALENDAR
VERSION:2.0
PRODID:-//Woodlark Hotel - ECPv6.15.20//NONSGML v1.0//EN
CALSCALE:GREGORIAN
METHOD:PUBLISH
X-ORIGINAL-URL:https://www.woodlarkhotel.com
X-WR-CALDESC:Events for Woodlark Hotel
REFRESH-INTERVAL;VALUE=DURATION:PT1H
X-Robots-Tag:noindex
X-PUBLISHED-TTL:PT1H
BEGIN:VTIMEZONE
TZID:America/Los_Angeles
BEGIN:DAYLIGHT
TZOFFSETFROM:-0800
TZOFFSETTO:-0700
TZNAME:PDT
DTSTART:20250309T100000
END:DAYLIGHT
BEGIN:STANDARD
TZOFFSETFROM:-0700
TZOFFSETTO:-0800
TZNAME:PST
DTSTART:20251102T090000
END:STANDARD
BEGIN:DAYLIGHT
TZOFFSETFROM:-0800
TZOFFSETTO:-0700
TZNAME:PDT
DTSTART:20260308T100000
END:DAYLIGHT
BEGIN:STANDARD
TZOFFSETFROM:-0700
TZOFFSETTO:-0800
TZNAME:PST
DTSTART:20261101T090000
END:STANDARD
BEGIN:DAYLIGHT
TZOFFSETFROM:-0800
TZOFFSETTO:-0700
TZNAME:PDT
DTSTART:20270314T100000
END:DAYLIGHT
BEGIN:STANDARD
TZOFFSETFROM:-0700
TZOFFSETTO:-0800
TZNAME:PST
DTSTART:20271107T090000
END:STANDARD
END:VTIMEZONE
BEGIN:VEVENT
DTSTART;TZID=America/Los_Angeles:20260201T110000
DTEND;TZID=America/Los_Angeles:20260201T150000
DTSTAMP:20260422T071950
CREATED:20260120T173639Z
LAST-MODIFIED:20260120T190856Z
UID:10000541-1769943600-1769958000@www.woodlarkhotel.com
SUMMARY:High Tea at Abigail Hall
DESCRIPTION:Come join us for High Tea at Abigail Hall! Every Saturday and Sunday\, we serve our version of a royal high tea – think a little bit classic\, and a little bit saucy\, just like the women who continue to inspire us. \nImagine: a tower featuring a selection of classic savory and sweet snacks* with unexpected twists\, vintage tea cups filled with Smith Teamaker Tea\, steeped at your table and specially crafted cocktails. \nReservations are $48 / person\, with seatings at 11 AM & 1 PM every Saturday and Sunday. We open reservations 30 days in advance. \n*All items on the menu include gluten & dairy and we do not offer any substitutions. \nSend us a note at dearabby@abigailhallpdx.com with any questions you might have!
URL:https://www.woodlarkhotel.com/event/high-tea-abigailhall/2026-02-01/
LOCATION:Abigail Hall\, 813 SW Alder St.\, Portland\, 97205\, United States
CATEGORIES:Neighborhood Events,Pop-Up
ATTACH;FMTTYPE=image/png:https://www.woodlarkhotel.com/wp-content/uploads/2026/01/PDXWL-high-tea.png
END:VEVENT
BEGIN:VEVENT
DTSTART;TZID=America/Los_Angeles:20260207T110000
DTEND;TZID=America/Los_Angeles:20260207T150000
DTSTAMP:20260422T071950
CREATED:20260120T173639Z
LAST-MODIFIED:20260120T190856Z
UID:10000542-1770462000-1770476400@www.woodlarkhotel.com
SUMMARY:High Tea at Abigail Hall
DESCRIPTION:Come join us for High Tea at Abigail Hall! Every Saturday and Sunday\, we serve our version of a royal high tea – think a little bit classic\, and a little bit saucy\, just like the women who continue to inspire us. \nImagine: a tower featuring a selection of classic savory and sweet snacks* with unexpected twists\, vintage tea cups filled with Smith Teamaker Tea\, steeped at your table and specially crafted cocktails. \nReservations are $48 / person\, with seatings at 11 AM & 1 PM every Saturday and Sunday. We open reservations 30 days in advance. \n*All items on the menu include gluten & dairy and we do not offer any substitutions. \nSend us a note at dearabby@abigailhallpdx.com with any questions you might have!
URL:https://www.woodlarkhotel.com/event/high-tea-abigailhall/2026-02-07/
LOCATION:Abigail Hall\, 813 SW Alder St.\, Portland\, 97205\, United States
CATEGORIES:Neighborhood Events,Pop-Up
ATTACH;FMTTYPE=image/png:https://www.woodlarkhotel.com/wp-content/uploads/2026/01/PDXWL-high-tea.png
END:VEVENT
BEGIN:VEVENT
DTSTART;TZID=America/Los_Angeles:20260208T110000
DTEND;TZID=America/Los_Angeles:20260208T150000
DTSTAMP:20260422T071950
CREATED:20260120T173639Z
LAST-MODIFIED:20260120T190856Z
UID:10000543-1770548400-1770562800@www.woodlarkhotel.com
SUMMARY:High Tea at Abigail Hall
DESCRIPTION:Come join us for High Tea at Abigail Hall! Every Saturday and Sunday\, we serve our version of a royal high tea – think a little bit classic\, and a little bit saucy\, just like the women who continue to inspire us. \nImagine: a tower featuring a selection of classic savory and sweet snacks* with unexpected twists\, vintage tea cups filled with Smith Teamaker Tea\, steeped at your table and specially crafted cocktails. \nReservations are $48 / person\, with seatings at 11 AM & 1 PM every Saturday and Sunday. We open reservations 30 days in advance. \n*All items on the menu include gluten & dairy and we do not offer any substitutions. \nSend us a note at dearabby@abigailhallpdx.com with any questions you might have!
URL:https://www.woodlarkhotel.com/event/high-tea-abigailhall/2026-02-08/
LOCATION:Abigail Hall\, 813 SW Alder St.\, Portland\, 97205\, United States
CATEGORIES:Neighborhood Events,Pop-Up
ATTACH;FMTTYPE=image/png:https://www.woodlarkhotel.com/wp-content/uploads/2026/01/PDXWL-high-tea.png
END:VEVENT
BEGIN:VEVENT
DTSTART;TZID=America/Los_Angeles:20260214T110000
DTEND;TZID=America/Los_Angeles:20260214T150000
DTSTAMP:20260422T071950
CREATED:20260120T173639Z
LAST-MODIFIED:20260120T190856Z
UID:10000544-1771066800-1771081200@www.woodlarkhotel.com
SUMMARY:High Tea at Abigail Hall
DESCRIPTION:Come join us for High Tea at Abigail Hall! Every Saturday and Sunday\, we serve our version of a royal high tea – think a little bit classic\, and a little bit saucy\, just like the women who continue to inspire us. \nImagine: a tower featuring a selection of classic savory and sweet snacks* with unexpected twists\, vintage tea cups filled with Smith Teamaker Tea\, steeped at your table and specially crafted cocktails. \nReservations are $48 / person\, with seatings at 11 AM & 1 PM every Saturday and Sunday. We open reservations 30 days in advance. \n*All items on the menu include gluten & dairy and we do not offer any substitutions. \nSend us a note at dearabby@abigailhallpdx.com with any questions you might have!
URL:https://www.woodlarkhotel.com/event/high-tea-abigailhall/2026-02-14/
LOCATION:Abigail Hall\, 813 SW Alder St.\, Portland\, 97205\, United States
CATEGORIES:Neighborhood Events,Pop-Up
ATTACH;FMTTYPE=image/png:https://www.woodlarkhotel.com/wp-content/uploads/2026/01/PDXWL-high-tea.png
END:VEVENT
BEGIN:VEVENT
DTSTART;TZID=America/Los_Angeles:20260215T110000
DTEND;TZID=America/Los_Angeles:20260215T150000
DTSTAMP:20260422T071950
CREATED:20260120T173639Z
LAST-MODIFIED:20260120T190856Z
UID:10000545-1771153200-1771167600@www.woodlarkhotel.com
SUMMARY:High Tea at Abigail Hall
DESCRIPTION:Come join us for High Tea at Abigail Hall! Every Saturday and Sunday\, we serve our version of a royal high tea – think a little bit classic\, and a little bit saucy\, just like the women who continue to inspire us. \nImagine: a tower featuring a selection of classic savory and sweet snacks* with unexpected twists\, vintage tea cups filled with Smith Teamaker Tea\, steeped at your table and specially crafted cocktails. \nReservations are $48 / person\, with seatings at 11 AM & 1 PM every Saturday and Sunday. We open reservations 30 days in advance. \n*All items on the menu include gluten & dairy and we do not offer any substitutions. \nSend us a note at dearabby@abigailhallpdx.com with any questions you might have!
URL:https://www.woodlarkhotel.com/event/high-tea-abigailhall/2026-02-15/
LOCATION:Abigail Hall\, 813 SW Alder St.\, Portland\, 97205\, United States
CATEGORIES:Neighborhood Events,Pop-Up
ATTACH;FMTTYPE=image/png:https://www.woodlarkhotel.com/wp-content/uploads/2026/01/PDXWL-high-tea.png
END:VEVENT
BEGIN:VEVENT
DTSTART;TZID=America/Los_Angeles:20260219T180000
DTEND;TZID=America/Los_Angeles:20260219T200000
DTSTAMP:20260422T071950
CREATED:20250217T061658Z
LAST-MODIFIED:20260203T163322Z
UID:10000059-1771524000-1771531200@www.woodlarkhotel.com
SUMMARY:Drag Bingo
DESCRIPTION:Drag Bingo is weekly on Thursday’s at Abigail Hall. Come play bingo with Shandi Evans and friends each week for your chance to win prizes (including free hotel stays!!!). \nPLUS each month we’ll be partnering with a different charity to give back to our community that makes Portland so special.
URL:https://www.woodlarkhotel.com/event/drag-bingo-event/2026-02-19/
LOCATION:Abigail Hall\, 813 SW Alder St.\, Portland\, 97205\, United States
CATEGORIES:Neighborhood Events,Pop-Up
ATTACH;FMTTYPE=image/png:https://www.woodlarkhotel.com/wp-content/uploads/2025/02/Drag-Bingo-Flyer-Ad.png
END:VEVENT
BEGIN:VEVENT
DTSTART;TZID=America/Los_Angeles:20260221T110000
DTEND;TZID=America/Los_Angeles:20260221T150000
DTSTAMP:20260422T071950
CREATED:20260120T173639Z
LAST-MODIFIED:20260120T190856Z
UID:10000546-1771671600-1771686000@www.woodlarkhotel.com
SUMMARY:High Tea at Abigail Hall
DESCRIPTION:Come join us for High Tea at Abigail Hall! Every Saturday and Sunday\, we serve our version of a royal high tea – think a little bit classic\, and a little bit saucy\, just like the women who continue to inspire us. \nImagine: a tower featuring a selection of classic savory and sweet snacks* with unexpected twists\, vintage tea cups filled with Smith Teamaker Tea\, steeped at your table and specially crafted cocktails. \nReservations are $48 / person\, with seatings at 11 AM & 1 PM every Saturday and Sunday. We open reservations 30 days in advance. \n*All items on the menu include gluten & dairy and we do not offer any substitutions. \nSend us a note at dearabby@abigailhallpdx.com with any questions you might have!
URL:https://www.woodlarkhotel.com/event/high-tea-abigailhall/2026-02-21/
LOCATION:Abigail Hall\, 813 SW Alder St.\, Portland\, 97205\, United States
CATEGORIES:Neighborhood Events,Pop-Up
ATTACH;FMTTYPE=image/png:https://www.woodlarkhotel.com/wp-content/uploads/2026/01/PDXWL-high-tea.png
END:VEVENT
BEGIN:VEVENT
DTSTART;TZID=America/Los_Angeles:20260222T110000
DTEND;TZID=America/Los_Angeles:20260222T150000
DTSTAMP:20260422T071950
CREATED:20260120T173639Z
LAST-MODIFIED:20260120T190856Z
UID:10000547-1771758000-1771772400@www.woodlarkhotel.com
SUMMARY:High Tea at Abigail Hall
DESCRIPTION:Come join us for High Tea at Abigail Hall! Every Saturday and Sunday\, we serve our version of a royal high tea – think a little bit classic\, and a little bit saucy\, just like the women who continue to inspire us. \nImagine: a tower featuring a selection of classic savory and sweet snacks* with unexpected twists\, vintage tea cups filled with Smith Teamaker Tea\, steeped at your table and specially crafted cocktails. \nReservations are $48 / person\, with seatings at 11 AM & 1 PM every Saturday and Sunday. We open reservations 30 days in advance. \n*All items on the menu include gluten & dairy and we do not offer any substitutions. \nSend us a note at dearabby@abigailhallpdx.com with any questions you might have!
URL:https://www.woodlarkhotel.com/event/high-tea-abigailhall/2026-02-22/
LOCATION:Abigail Hall\, 813 SW Alder St.\, Portland\, 97205\, United States
CATEGORIES:Neighborhood Events,Pop-Up
ATTACH;FMTTYPE=image/png:https://www.woodlarkhotel.com/wp-content/uploads/2026/01/PDXWL-high-tea.png
END:VEVENT
BEGIN:VEVENT
DTSTART;TZID=America/Los_Angeles:20260226T180000
DTEND;TZID=America/Los_Angeles:20260226T200000
DTSTAMP:20260422T071950
CREATED:20250217T061658Z
LAST-MODIFIED:20260203T163322Z
UID:10000060-1772128800-1772136000@www.woodlarkhotel.com
SUMMARY:Drag Bingo
DESCRIPTION:Drag Bingo is weekly on Thursday’s at Abigail Hall. Come play bingo with Shandi Evans and friends each week for your chance to win prizes (including free hotel stays!!!). \nPLUS each month we’ll be partnering with a different charity to give back to our community that makes Portland so special.
URL:https://www.woodlarkhotel.com/event/drag-bingo-event/2026-02-26/
LOCATION:Abigail Hall\, 813 SW Alder St.\, Portland\, 97205\, United States
CATEGORIES:Neighborhood Events,Pop-Up
ATTACH;FMTTYPE=image/png:https://www.woodlarkhotel.com/wp-content/uploads/2025/02/Drag-Bingo-Flyer-Ad.png
END:VEVENT
BEGIN:VEVENT
DTSTART;TZID=America/Los_Angeles:20260228T110000
DTEND;TZID=America/Los_Angeles:20260228T150000
DTSTAMP:20260422T071950
CREATED:20260120T173639Z
LAST-MODIFIED:20260120T190856Z
UID:10000548-1772276400-1772290800@www.woodlarkhotel.com
SUMMARY:High Tea at Abigail Hall
DESCRIPTION:Come join us for High Tea at Abigail Hall! Every Saturday and Sunday\, we serve our version of a royal high tea – think a little bit classic\, and a little bit saucy\, just like the women who continue to inspire us. \nImagine: a tower featuring a selection of classic savory and sweet snacks* with unexpected twists\, vintage tea cups filled with Smith Teamaker Tea\, steeped at your table and specially crafted cocktails. \nReservations are $48 / person\, with seatings at 11 AM & 1 PM every Saturday and Sunday. We open reservations 30 days in advance. \n*All items on the menu include gluten & dairy and we do not offer any substitutions. \nSend us a note at dearabby@abigailhallpdx.com with any questions you might have!
URL:https://www.woodlarkhotel.com/event/high-tea-abigailhall/2026-02-28/
LOCATION:Abigail Hall\, 813 SW Alder St.\, Portland\, 97205\, United States
CATEGORIES:Neighborhood Events,Pop-Up
ATTACH;FMTTYPE=image/png:https://www.woodlarkhotel.com/wp-content/uploads/2026/01/PDXWL-high-tea.png
END:VEVENT
END:VCALENDAR