BEGIN:VCALENDAR
VERSION:2.0
PRODID:-//Woodlark Hotel - ECPv6.15.20//NONSGML v1.0//EN
CALSCALE:GREGORIAN
METHOD:PUBLISH
X-WR-CALNAME:Woodlark Hotel
X-ORIGINAL-URL:https://www.woodlarkhotel.com
X-WR-CALDESC:Events for Woodlark Hotel
REFRESH-INTERVAL;VALUE=DURATION:PT1H
X-Robots-Tag:noindex
X-PUBLISHED-TTL:PT1H
BEGIN:VTIMEZONE
TZID:America/Los_Angeles
BEGIN:DAYLIGHT
TZOFFSETFROM:-0800
TZOFFSETTO:-0700
TZNAME:PDT
DTSTART:20250309T100000
END:DAYLIGHT
BEGIN:STANDARD
TZOFFSETFROM:-0700
TZOFFSETTO:-0800
TZNAME:PST
DTSTART:20251102T090000
END:STANDARD
BEGIN:DAYLIGHT
TZOFFSETFROM:-0800
TZOFFSETTO:-0700
TZNAME:PDT
DTSTART:20260308T100000
END:DAYLIGHT
BEGIN:STANDARD
TZOFFSETFROM:-0700
TZOFFSETTO:-0800
TZNAME:PST
DTSTART:20261101T090000
END:STANDARD
BEGIN:DAYLIGHT
TZOFFSETFROM:-0800
TZOFFSETTO:-0700
TZNAME:PDT
DTSTART:20270314T100000
END:DAYLIGHT
BEGIN:STANDARD
TZOFFSETFROM:-0700
TZOFFSETTO:-0800
TZNAME:PST
DTSTART:20271107T090000
END:STANDARD
END:VTIMEZONE
BEGIN:VEVENT
DTSTART;TZID=America/Los_Angeles:20260423T180000
DTEND;TZID=America/Los_Angeles:20260423T200000
DTSTAMP:20260423T103136
CREATED:20260303T005405Z
LAST-MODIFIED:20260303T005406Z
UID:10000068-1776967200-1776974400@www.woodlarkhotel.com
SUMMARY:Drag Bingo
DESCRIPTION:Drag Bingo is weekly on Thursday’s at Abigail Hall. Come play bingo with Shandi Evans and friends each week for your chance to win prizes (including free hotel stays!!!). \nPLUS each month we’ll be partnering with a different charity to give back to our community that makes Portland so special.
URL:https://www.woodlarkhotel.com/event/drag-bingo-event-2/2026-04-23/
LOCATION:Abigail Hall\, 813 SW Alder St.\, Portland\, 97205\, United States
CATEGORIES:Neighborhood Events,Pop-Up
ATTACH;FMTTYPE=image/png:https://www.woodlarkhotel.com/wp-content/uploads/2026/03/Drag-Bingo-March-Schedule.png
END:VEVENT
BEGIN:VEVENT
DTSTART;TZID=America/Los_Angeles:20260430T180000
DTEND;TZID=America/Los_Angeles:20260430T200000
DTSTAMP:20260423T103136
CREATED:20260303T005405Z
LAST-MODIFIED:20260303T005406Z
UID:10000069-1777572000-1777579200@www.woodlarkhotel.com
SUMMARY:Drag Bingo
DESCRIPTION:Drag Bingo is weekly on Thursday’s at Abigail Hall. Come play bingo with Shandi Evans and friends each week for your chance to win prizes (including free hotel stays!!!). \nPLUS each month we’ll be partnering with a different charity to give back to our community that makes Portland so special.
URL:https://www.woodlarkhotel.com/event/drag-bingo-event-2/2026-04-30/
LOCATION:Abigail Hall\, 813 SW Alder St.\, Portland\, 97205\, United States
CATEGORIES:Neighborhood Events,Pop-Up
ATTACH;FMTTYPE=image/png:https://www.woodlarkhotel.com/wp-content/uploads/2026/03/Drag-Bingo-March-Schedule.png
END:VEVENT
BEGIN:VEVENT
DTSTART;TZID=America/Los_Angeles:20260507T180000
DTEND;TZID=America/Los_Angeles:20260507T200000
DTSTAMP:20260423T103136
CREATED:20260303T005405Z
LAST-MODIFIED:20260303T005406Z
UID:10000070-1778176800-1778184000@www.woodlarkhotel.com
SUMMARY:Drag Bingo
DESCRIPTION:Drag Bingo is weekly on Thursday’s at Abigail Hall. Come play bingo with Shandi Evans and friends each week for your chance to win prizes (including free hotel stays!!!). \nPLUS each month we’ll be partnering with a different charity to give back to our community that makes Portland so special.
URL:https://www.woodlarkhotel.com/event/drag-bingo-event-2/2026-05-07/
LOCATION:Abigail Hall\, 813 SW Alder St.\, Portland\, 97205\, United States
CATEGORIES:Neighborhood Events,Pop-Up
ATTACH;FMTTYPE=image/png:https://www.woodlarkhotel.com/wp-content/uploads/2026/03/Drag-Bingo-March-Schedule.png
END:VEVENT
BEGIN:VEVENT
DTSTART;TZID=America/Los_Angeles:20260514T180000
DTEND;TZID=America/Los_Angeles:20260514T200000
DTSTAMP:20260423T103136
CREATED:20260303T005405Z
LAST-MODIFIED:20260303T005406Z
UID:10000071-1778781600-1778788800@www.woodlarkhotel.com
SUMMARY:Drag Bingo
DESCRIPTION:Drag Bingo is weekly on Thursday’s at Abigail Hall. Come play bingo with Shandi Evans and friends each week for your chance to win prizes (including free hotel stays!!!). \nPLUS each month we’ll be partnering with a different charity to give back to our community that makes Portland so special.
URL:https://www.woodlarkhotel.com/event/drag-bingo-event-2/2026-05-14/
LOCATION:Abigail Hall\, 813 SW Alder St.\, Portland\, 97205\, United States
CATEGORIES:Neighborhood Events,Pop-Up
ATTACH;FMTTYPE=image/png:https://www.woodlarkhotel.com/wp-content/uploads/2026/03/Drag-Bingo-March-Schedule.png
END:VEVENT
BEGIN:VEVENT
DTSTART;TZID=America/Los_Angeles:20260521T180000
DTEND;TZID=America/Los_Angeles:20260521T200000
DTSTAMP:20260423T103136
CREATED:20260303T005405Z
LAST-MODIFIED:20260303T005406Z
UID:10000072-1779386400-1779393600@www.woodlarkhotel.com
SUMMARY:Drag Bingo
DESCRIPTION:Drag Bingo is weekly on Thursday’s at Abigail Hall. Come play bingo with Shandi Evans and friends each week for your chance to win prizes (including free hotel stays!!!). \nPLUS each month we’ll be partnering with a different charity to give back to our community that makes Portland so special.
URL:https://www.woodlarkhotel.com/event/drag-bingo-event-2/2026-05-21/
LOCATION:Abigail Hall\, 813 SW Alder St.\, Portland\, 97205\, United States
CATEGORIES:Neighborhood Events,Pop-Up
ATTACH;FMTTYPE=image/png:https://www.woodlarkhotel.com/wp-content/uploads/2026/03/Drag-Bingo-March-Schedule.png
END:VEVENT
BEGIN:VEVENT
DTSTART;TZID=America/Los_Angeles:20260528T180000
DTEND;TZID=America/Los_Angeles:20260528T200000
DTSTAMP:20260423T103136
CREATED:20260303T005405Z
LAST-MODIFIED:20260303T005406Z
UID:10000073-1779991200-1779998400@www.woodlarkhotel.com
SUMMARY:Drag Bingo
DESCRIPTION:Drag Bingo is weekly on Thursday’s at Abigail Hall. Come play bingo with Shandi Evans and friends each week for your chance to win prizes (including free hotel stays!!!). \nPLUS each month we’ll be partnering with a different charity to give back to our community that makes Portland so special.
URL:https://www.woodlarkhotel.com/event/drag-bingo-event-2/2026-05-28/
LOCATION:Abigail Hall\, 813 SW Alder St.\, Portland\, 97205\, United States
CATEGORIES:Neighborhood Events,Pop-Up
ATTACH;FMTTYPE=image/png:https://www.woodlarkhotel.com/wp-content/uploads/2026/03/Drag-Bingo-March-Schedule.png
END:VEVENT
BEGIN:VEVENT
DTSTART;TZID=America/Los_Angeles:20260604T180000
DTEND;TZID=America/Los_Angeles:20260604T200000
DTSTAMP:20260423T103136
CREATED:20260303T005405Z
LAST-MODIFIED:20260303T005406Z
UID:10000074-1780596000-1780603200@www.woodlarkhotel.com
SUMMARY:Drag Bingo
DESCRIPTION:Drag Bingo is weekly on Thursday’s at Abigail Hall. Come play bingo with Shandi Evans and friends each week for your chance to win prizes (including free hotel stays!!!). \nPLUS each month we’ll be partnering with a different charity to give back to our community that makes Portland so special.
URL:https://www.woodlarkhotel.com/event/drag-bingo-event-2/2026-06-04/
LOCATION:Abigail Hall\, 813 SW Alder St.\, Portland\, 97205\, United States
CATEGORIES:Neighborhood Events,Pop-Up
ATTACH;FMTTYPE=image/png:https://www.woodlarkhotel.com/wp-content/uploads/2026/03/Drag-Bingo-March-Schedule.png
END:VEVENT
BEGIN:VEVENT
DTSTART;TZID=America/Los_Angeles:20260611T180000
DTEND;TZID=America/Los_Angeles:20260611T200000
DTSTAMP:20260423T103136
CREATED:20260303T005405Z
LAST-MODIFIED:20260303T005406Z
UID:10000075-1781200800-1781208000@www.woodlarkhotel.com
SUMMARY:Drag Bingo
DESCRIPTION:Drag Bingo is weekly on Thursday’s at Abigail Hall. Come play bingo with Shandi Evans and friends each week for your chance to win prizes (including free hotel stays!!!). \nPLUS each month we’ll be partnering with a different charity to give back to our community that makes Portland so special.
URL:https://www.woodlarkhotel.com/event/drag-bingo-event-2/2026-06-11/
LOCATION:Abigail Hall\, 813 SW Alder St.\, Portland\, 97205\, United States
CATEGORIES:Neighborhood Events,Pop-Up
ATTACH;FMTTYPE=image/png:https://www.woodlarkhotel.com/wp-content/uploads/2026/03/Drag-Bingo-March-Schedule.png
END:VEVENT
BEGIN:VEVENT
DTSTART;TZID=America/Los_Angeles:20260618T180000
DTEND;TZID=America/Los_Angeles:20260618T200000
DTSTAMP:20260423T103136
CREATED:20260303T005405Z
LAST-MODIFIED:20260303T005406Z
UID:10000076-1781805600-1781812800@www.woodlarkhotel.com
SUMMARY:Drag Bingo
DESCRIPTION:Drag Bingo is weekly on Thursday’s at Abigail Hall. Come play bingo with Shandi Evans and friends each week for your chance to win prizes (including free hotel stays!!!). \nPLUS each month we’ll be partnering with a different charity to give back to our community that makes Portland so special.
URL:https://www.woodlarkhotel.com/event/drag-bingo-event-2/2026-06-18/
LOCATION:Abigail Hall\, 813 SW Alder St.\, Portland\, 97205\, United States
CATEGORIES:Neighborhood Events,Pop-Up
ATTACH;FMTTYPE=image/png:https://www.woodlarkhotel.com/wp-content/uploads/2026/03/Drag-Bingo-March-Schedule.png
END:VEVENT
BEGIN:VEVENT
DTSTART;TZID=America/Los_Angeles:20260625T180000
DTEND;TZID=America/Los_Angeles:20260625T200000
DTSTAMP:20260423T103136
CREATED:20260303T005405Z
LAST-MODIFIED:20260303T005406Z
UID:10000077-1782410400-1782417600@www.woodlarkhotel.com
SUMMARY:Drag Bingo
DESCRIPTION:Drag Bingo is weekly on Thursday’s at Abigail Hall. Come play bingo with Shandi Evans and friends each week for your chance to win prizes (including free hotel stays!!!). \nPLUS each month we’ll be partnering with a different charity to give back to our community that makes Portland so special.
URL:https://www.woodlarkhotel.com/event/drag-bingo-event-2/2026-06-25/
LOCATION:Abigail Hall\, 813 SW Alder St.\, Portland\, 97205\, United States
CATEGORIES:Neighborhood Events,Pop-Up
ATTACH;FMTTYPE=image/png:https://www.woodlarkhotel.com/wp-content/uploads/2026/03/Drag-Bingo-March-Schedule.png
END:VEVENT
BEGIN:VEVENT
DTSTART;TZID=America/Los_Angeles:20260702T180000
DTEND;TZID=America/Los_Angeles:20260702T200000
DTSTAMP:20260423T103136
CREATED:20260303T005405Z
LAST-MODIFIED:20260303T005406Z
UID:10000078-1783015200-1783022400@www.woodlarkhotel.com
SUMMARY:Drag Bingo
DESCRIPTION:Drag Bingo is weekly on Thursday’s at Abigail Hall. Come play bingo with Shandi Evans and friends each week for your chance to win prizes (including free hotel stays!!!). \nPLUS each month we’ll be partnering with a different charity to give back to our community that makes Portland so special.
URL:https://www.woodlarkhotel.com/event/drag-bingo-event-2/2026-07-02/
LOCATION:Abigail Hall\, 813 SW Alder St.\, Portland\, 97205\, United States
CATEGORIES:Neighborhood Events,Pop-Up
ATTACH;FMTTYPE=image/png:https://www.woodlarkhotel.com/wp-content/uploads/2026/03/Drag-Bingo-March-Schedule.png
END:VEVENT
BEGIN:VEVENT
DTSTART;TZID=America/Los_Angeles:20260709T180000
DTEND;TZID=America/Los_Angeles:20260709T200000
DTSTAMP:20260423T103136
CREATED:20260303T005405Z
LAST-MODIFIED:20260303T005406Z
UID:10000079-1783620000-1783627200@www.woodlarkhotel.com
SUMMARY:Drag Bingo
DESCRIPTION:Drag Bingo is weekly on Thursday’s at Abigail Hall. Come play bingo with Shandi Evans and friends each week for your chance to win prizes (including free hotel stays!!!). \nPLUS each month we’ll be partnering with a different charity to give back to our community that makes Portland so special.
URL:https://www.woodlarkhotel.com/event/drag-bingo-event-2/2026-07-09/
LOCATION:Abigail Hall\, 813 SW Alder St.\, Portland\, 97205\, United States
CATEGORIES:Neighborhood Events,Pop-Up
ATTACH;FMTTYPE=image/png:https://www.woodlarkhotel.com/wp-content/uploads/2026/03/Drag-Bingo-March-Schedule.png
END:VEVENT
BEGIN:VEVENT
DTSTART;TZID=America/Los_Angeles:20260716T180000
DTEND;TZID=America/Los_Angeles:20260716T200000
DTSTAMP:20260423T103136
CREATED:20260303T005405Z
LAST-MODIFIED:20260303T005406Z
UID:10000080-1784224800-1784232000@www.woodlarkhotel.com
SUMMARY:Drag Bingo
DESCRIPTION:Drag Bingo is weekly on Thursday’s at Abigail Hall. Come play bingo with Shandi Evans and friends each week for your chance to win prizes (including free hotel stays!!!). \nPLUS each month we’ll be partnering with a different charity to give back to our community that makes Portland so special.
URL:https://www.woodlarkhotel.com/event/drag-bingo-event-2/2026-07-16/
LOCATION:Abigail Hall\, 813 SW Alder St.\, Portland\, 97205\, United States
CATEGORIES:Neighborhood Events,Pop-Up
ATTACH;FMTTYPE=image/png:https://www.woodlarkhotel.com/wp-content/uploads/2026/03/Drag-Bingo-March-Schedule.png
END:VEVENT
BEGIN:VEVENT
DTSTART;TZID=America/Los_Angeles:20260723T180000
DTEND;TZID=America/Los_Angeles:20260723T200000
DTSTAMP:20260423T103136
CREATED:20260303T005405Z
LAST-MODIFIED:20260303T005406Z
UID:10000081-1784829600-1784836800@www.woodlarkhotel.com
SUMMARY:Drag Bingo
DESCRIPTION:Drag Bingo is weekly on Thursday’s at Abigail Hall. Come play bingo with Shandi Evans and friends each week for your chance to win prizes (including free hotel stays!!!). \nPLUS each month we’ll be partnering with a different charity to give back to our community that makes Portland so special.
URL:https://www.woodlarkhotel.com/event/drag-bingo-event-2/2026-07-23/
LOCATION:Abigail Hall\, 813 SW Alder St.\, Portland\, 97205\, United States
CATEGORIES:Neighborhood Events,Pop-Up
ATTACH;FMTTYPE=image/png:https://www.woodlarkhotel.com/wp-content/uploads/2026/03/Drag-Bingo-March-Schedule.png
END:VEVENT
BEGIN:VEVENT
DTSTART;TZID=America/Los_Angeles:20260730T180000
DTEND;TZID=America/Los_Angeles:20260730T200000
DTSTAMP:20260423T103136
CREATED:20260303T005405Z
LAST-MODIFIED:20260303T005406Z
UID:10000082-1785434400-1785441600@www.woodlarkhotel.com
SUMMARY:Drag Bingo
DESCRIPTION:Drag Bingo is weekly on Thursday’s at Abigail Hall. Come play bingo with Shandi Evans and friends each week for your chance to win prizes (including free hotel stays!!!). \nPLUS each month we’ll be partnering with a different charity to give back to our community that makes Portland so special.
URL:https://www.woodlarkhotel.com/event/drag-bingo-event-2/2026-07-30/
LOCATION:Abigail Hall\, 813 SW Alder St.\, Portland\, 97205\, United States
CATEGORIES:Neighborhood Events,Pop-Up
ATTACH;FMTTYPE=image/png:https://www.woodlarkhotel.com/wp-content/uploads/2026/03/Drag-Bingo-March-Schedule.png
END:VEVENT
BEGIN:VEVENT
DTSTART;TZID=America/Los_Angeles:20260806T180000
DTEND;TZID=America/Los_Angeles:20260806T200000
DTSTAMP:20260423T103136
CREATED:20260303T005405Z
LAST-MODIFIED:20260303T005406Z
UID:10000083-1786039200-1786046400@www.woodlarkhotel.com
SUMMARY:Drag Bingo
DESCRIPTION:Drag Bingo is weekly on Thursday’s at Abigail Hall. Come play bingo with Shandi Evans and friends each week for your chance to win prizes (including free hotel stays!!!). \nPLUS each month we’ll be partnering with a different charity to give back to our community that makes Portland so special.
URL:https://www.woodlarkhotel.com/event/drag-bingo-event-2/2026-08-06/
LOCATION:Abigail Hall\, 813 SW Alder St.\, Portland\, 97205\, United States
CATEGORIES:Neighborhood Events,Pop-Up
ATTACH;FMTTYPE=image/png:https://www.woodlarkhotel.com/wp-content/uploads/2026/03/Drag-Bingo-March-Schedule.png
END:VEVENT
BEGIN:VEVENT
DTSTART;TZID=America/Los_Angeles:20260813T180000
DTEND;TZID=America/Los_Angeles:20260813T200000
DTSTAMP:20260423T103136
CREATED:20260303T005405Z
LAST-MODIFIED:20260303T005406Z
UID:10000084-1786644000-1786651200@www.woodlarkhotel.com
SUMMARY:Drag Bingo
DESCRIPTION:Drag Bingo is weekly on Thursday’s at Abigail Hall. Come play bingo with Shandi Evans and friends each week for your chance to win prizes (including free hotel stays!!!). \nPLUS each month we’ll be partnering with a different charity to give back to our community that makes Portland so special.
URL:https://www.woodlarkhotel.com/event/drag-bingo-event-2/2026-08-13/
LOCATION:Abigail Hall\, 813 SW Alder St.\, Portland\, 97205\, United States
CATEGORIES:Neighborhood Events,Pop-Up
ATTACH;FMTTYPE=image/png:https://www.woodlarkhotel.com/wp-content/uploads/2026/03/Drag-Bingo-March-Schedule.png
END:VEVENT
BEGIN:VEVENT
DTSTART;TZID=America/Los_Angeles:20260820T180000
DTEND;TZID=America/Los_Angeles:20260820T200000
DTSTAMP:20260423T103136
CREATED:20260303T005405Z
LAST-MODIFIED:20260303T005406Z
UID:10000085-1787248800-1787256000@www.woodlarkhotel.com
SUMMARY:Drag Bingo
DESCRIPTION:Drag Bingo is weekly on Thursday’s at Abigail Hall. Come play bingo with Shandi Evans and friends each week for your chance to win prizes (including free hotel stays!!!). \nPLUS each month we’ll be partnering with a different charity to give back to our community that makes Portland so special.
URL:https://www.woodlarkhotel.com/event/drag-bingo-event-2/2026-08-20/
LOCATION:Abigail Hall\, 813 SW Alder St.\, Portland\, 97205\, United States
CATEGORIES:Neighborhood Events,Pop-Up
ATTACH;FMTTYPE=image/png:https://www.woodlarkhotel.com/wp-content/uploads/2026/03/Drag-Bingo-March-Schedule.png
END:VEVENT
BEGIN:VEVENT
DTSTART;TZID=America/Los_Angeles:20260827T180000
DTEND;TZID=America/Los_Angeles:20260827T200000
DTSTAMP:20260423T103136
CREATED:20260303T005405Z
LAST-MODIFIED:20260303T005406Z
UID:10000086-1787853600-1787860800@www.woodlarkhotel.com
SUMMARY:Drag Bingo
DESCRIPTION:Drag Bingo is weekly on Thursday’s at Abigail Hall. Come play bingo with Shandi Evans and friends each week for your chance to win prizes (including free hotel stays!!!). \nPLUS each month we’ll be partnering with a different charity to give back to our community that makes Portland so special.
URL:https://www.woodlarkhotel.com/event/drag-bingo-event-2/2026-08-27/
LOCATION:Abigail Hall\, 813 SW Alder St.\, Portland\, 97205\, United States
CATEGORIES:Neighborhood Events,Pop-Up
ATTACH;FMTTYPE=image/png:https://www.woodlarkhotel.com/wp-content/uploads/2026/03/Drag-Bingo-March-Schedule.png
END:VEVENT
BEGIN:VEVENT
DTSTART;TZID=America/Los_Angeles:20260903T180000
DTEND;TZID=America/Los_Angeles:20260903T200000
DTSTAMP:20260423T103136
CREATED:20260303T005405Z
LAST-MODIFIED:20260303T005406Z
UID:10000087-1788458400-1788465600@www.woodlarkhotel.com
SUMMARY:Drag Bingo
DESCRIPTION:Drag Bingo is weekly on Thursday’s at Abigail Hall. Come play bingo with Shandi Evans and friends each week for your chance to win prizes (including free hotel stays!!!). \nPLUS each month we’ll be partnering with a different charity to give back to our community that makes Portland so special.
URL:https://www.woodlarkhotel.com/event/drag-bingo-event-2/2026-09-03/
LOCATION:Abigail Hall\, 813 SW Alder St.\, Portland\, 97205\, United States
CATEGORIES:Neighborhood Events,Pop-Up
ATTACH;FMTTYPE=image/png:https://www.woodlarkhotel.com/wp-content/uploads/2026/03/Drag-Bingo-March-Schedule.png
END:VEVENT
BEGIN:VEVENT
DTSTART;TZID=America/Los_Angeles:20260910T180000
DTEND;TZID=America/Los_Angeles:20260910T200000
DTSTAMP:20260423T103136
CREATED:20260303T005405Z
LAST-MODIFIED:20260303T005406Z
UID:10000088-1789063200-1789070400@www.woodlarkhotel.com
SUMMARY:Drag Bingo
DESCRIPTION:Drag Bingo is weekly on Thursday’s at Abigail Hall. Come play bingo with Shandi Evans and friends each week for your chance to win prizes (including free hotel stays!!!). \nPLUS each month we’ll be partnering with a different charity to give back to our community that makes Portland so special.
URL:https://www.woodlarkhotel.com/event/drag-bingo-event-2/2026-09-10/
LOCATION:Abigail Hall\, 813 SW Alder St.\, Portland\, 97205\, United States
CATEGORIES:Neighborhood Events,Pop-Up
ATTACH;FMTTYPE=image/png:https://www.woodlarkhotel.com/wp-content/uploads/2026/03/Drag-Bingo-March-Schedule.png
END:VEVENT
BEGIN:VEVENT
DTSTART;TZID=America/Los_Angeles:20260917T180000
DTEND;TZID=America/Los_Angeles:20260917T200000
DTSTAMP:20260423T103136
CREATED:20260303T005405Z
LAST-MODIFIED:20260303T005406Z
UID:10000089-1789668000-1789675200@www.woodlarkhotel.com
SUMMARY:Drag Bingo
DESCRIPTION:Drag Bingo is weekly on Thursday’s at Abigail Hall. Come play bingo with Shandi Evans and friends each week for your chance to win prizes (including free hotel stays!!!). \nPLUS each month we’ll be partnering with a different charity to give back to our community that makes Portland so special.
URL:https://www.woodlarkhotel.com/event/drag-bingo-event-2/2026-09-17/
LOCATION:Abigail Hall\, 813 SW Alder St.\, Portland\, 97205\, United States
CATEGORIES:Neighborhood Events,Pop-Up
ATTACH;FMTTYPE=image/png:https://www.woodlarkhotel.com/wp-content/uploads/2026/03/Drag-Bingo-March-Schedule.png
END:VEVENT
BEGIN:VEVENT
DTSTART;TZID=America/Los_Angeles:20260924T180000
DTEND;TZID=America/Los_Angeles:20260924T200000
DTSTAMP:20260423T103136
CREATED:20260303T005405Z
LAST-MODIFIED:20260303T005406Z
UID:10000090-1790272800-1790280000@www.woodlarkhotel.com
SUMMARY:Drag Bingo
DESCRIPTION:Drag Bingo is weekly on Thursday’s at Abigail Hall. Come play bingo with Shandi Evans and friends each week for your chance to win prizes (including free hotel stays!!!). \nPLUS each month we’ll be partnering with a different charity to give back to our community that makes Portland so special.
URL:https://www.woodlarkhotel.com/event/drag-bingo-event-2/2026-09-24/
LOCATION:Abigail Hall\, 813 SW Alder St.\, Portland\, 97205\, United States
CATEGORIES:Neighborhood Events,Pop-Up
ATTACH;FMTTYPE=image/png:https://www.woodlarkhotel.com/wp-content/uploads/2026/03/Drag-Bingo-March-Schedule.png
END:VEVENT
BEGIN:VEVENT
DTSTART;TZID=America/Los_Angeles:20261001T180000
DTEND;TZID=America/Los_Angeles:20261001T200000
DTSTAMP:20260423T103136
CREATED:20260303T005405Z
LAST-MODIFIED:20260303T005406Z
UID:10000091-1790877600-1790884800@www.woodlarkhotel.com
SUMMARY:Drag Bingo
DESCRIPTION:Drag Bingo is weekly on Thursday’s at Abigail Hall. Come play bingo with Shandi Evans and friends each week for your chance to win prizes (including free hotel stays!!!). \nPLUS each month we’ll be partnering with a different charity to give back to our community that makes Portland so special.
URL:https://www.woodlarkhotel.com/event/drag-bingo-event-2/2026-10-01/
LOCATION:Abigail Hall\, 813 SW Alder St.\, Portland\, 97205\, United States
CATEGORIES:Neighborhood Events,Pop-Up
ATTACH;FMTTYPE=image/png:https://www.woodlarkhotel.com/wp-content/uploads/2026/03/Drag-Bingo-March-Schedule.png
END:VEVENT
BEGIN:VEVENT
DTSTART;TZID=America/Los_Angeles:20261008T180000
DTEND;TZID=America/Los_Angeles:20261008T200000
DTSTAMP:20260423T103136
CREATED:20260303T005405Z
LAST-MODIFIED:20260303T005406Z
UID:10000092-1791482400-1791489600@www.woodlarkhotel.com
SUMMARY:Drag Bingo
DESCRIPTION:Drag Bingo is weekly on Thursday’s at Abigail Hall. Come play bingo with Shandi Evans and friends each week for your chance to win prizes (including free hotel stays!!!). \nPLUS each month we’ll be partnering with a different charity to give back to our community that makes Portland so special.
URL:https://www.woodlarkhotel.com/event/drag-bingo-event-2/2026-10-08/
LOCATION:Abigail Hall\, 813 SW Alder St.\, Portland\, 97205\, United States
CATEGORIES:Neighborhood Events,Pop-Up
ATTACH;FMTTYPE=image/png:https://www.woodlarkhotel.com/wp-content/uploads/2026/03/Drag-Bingo-March-Schedule.png
END:VEVENT
BEGIN:VEVENT
DTSTART;TZID=America/Los_Angeles:20261015T180000
DTEND;TZID=America/Los_Angeles:20261015T200000
DTSTAMP:20260423T103136
CREATED:20260303T005405Z
LAST-MODIFIED:20260303T005406Z
UID:10000093-1792087200-1792094400@www.woodlarkhotel.com
SUMMARY:Drag Bingo
DESCRIPTION:Drag Bingo is weekly on Thursday’s at Abigail Hall. Come play bingo with Shandi Evans and friends each week for your chance to win prizes (including free hotel stays!!!). \nPLUS each month we’ll be partnering with a different charity to give back to our community that makes Portland so special.
URL:https://www.woodlarkhotel.com/event/drag-bingo-event-2/2026-10-15/
LOCATION:Abigail Hall\, 813 SW Alder St.\, Portland\, 97205\, United States
CATEGORIES:Neighborhood Events,Pop-Up
ATTACH;FMTTYPE=image/png:https://www.woodlarkhotel.com/wp-content/uploads/2026/03/Drag-Bingo-March-Schedule.png
END:VEVENT
BEGIN:VEVENT
DTSTART;TZID=America/Los_Angeles:20261022T180000
DTEND;TZID=America/Los_Angeles:20261022T200000
DTSTAMP:20260423T103136
CREATED:20260303T005405Z
LAST-MODIFIED:20260303T005406Z
UID:10000094-1792692000-1792699200@www.woodlarkhotel.com
SUMMARY:Drag Bingo
DESCRIPTION:Drag Bingo is weekly on Thursday’s at Abigail Hall. Come play bingo with Shandi Evans and friends each week for your chance to win prizes (including free hotel stays!!!). \nPLUS each month we’ll be partnering with a different charity to give back to our community that makes Portland so special.
URL:https://www.woodlarkhotel.com/event/drag-bingo-event-2/2026-10-22/
LOCATION:Abigail Hall\, 813 SW Alder St.\, Portland\, 97205\, United States
CATEGORIES:Neighborhood Events,Pop-Up
ATTACH;FMTTYPE=image/png:https://www.woodlarkhotel.com/wp-content/uploads/2026/03/Drag-Bingo-March-Schedule.png
END:VEVENT
BEGIN:VEVENT
DTSTART;TZID=America/Los_Angeles:20261029T180000
DTEND;TZID=America/Los_Angeles:20261029T200000
DTSTAMP:20260423T103136
CREATED:20260303T005405Z
LAST-MODIFIED:20260303T005406Z
UID:10000095-1793296800-1793304000@www.woodlarkhotel.com
SUMMARY:Drag Bingo
DESCRIPTION:Drag Bingo is weekly on Thursday’s at Abigail Hall. Come play bingo with Shandi Evans and friends each week for your chance to win prizes (including free hotel stays!!!). \nPLUS each month we’ll be partnering with a different charity to give back to our community that makes Portland so special.
URL:https://www.woodlarkhotel.com/event/drag-bingo-event-2/2026-10-29/
LOCATION:Abigail Hall\, 813 SW Alder St.\, Portland\, 97205\, United States
CATEGORIES:Neighborhood Events,Pop-Up
ATTACH;FMTTYPE=image/png:https://www.woodlarkhotel.com/wp-content/uploads/2026/03/Drag-Bingo-March-Schedule.png
END:VEVENT
BEGIN:VEVENT
DTSTART;TZID=America/Los_Angeles:20261105T180000
DTEND;TZID=America/Los_Angeles:20261105T200000
DTSTAMP:20260423T103136
CREATED:20260303T005405Z
LAST-MODIFIED:20260303T005406Z
UID:10000096-1793901600-1793908800@www.woodlarkhotel.com
SUMMARY:Drag Bingo
DESCRIPTION:Drag Bingo is weekly on Thursday’s at Abigail Hall. Come play bingo with Shandi Evans and friends each week for your chance to win prizes (including free hotel stays!!!). \nPLUS each month we’ll be partnering with a different charity to give back to our community that makes Portland so special.
URL:https://www.woodlarkhotel.com/event/drag-bingo-event-2/2026-11-05/
LOCATION:Abigail Hall\, 813 SW Alder St.\, Portland\, 97205\, United States
CATEGORIES:Neighborhood Events,Pop-Up
ATTACH;FMTTYPE=image/png:https://www.woodlarkhotel.com/wp-content/uploads/2026/03/Drag-Bingo-March-Schedule.png
END:VEVENT
BEGIN:VEVENT
DTSTART;TZID=America/Los_Angeles:20261112T180000
DTEND;TZID=America/Los_Angeles:20261112T200000
DTSTAMP:20260423T103136
CREATED:20260303T005405Z
LAST-MODIFIED:20260303T005406Z
UID:10000097-1794506400-1794513600@www.woodlarkhotel.com
SUMMARY:Drag Bingo
DESCRIPTION:Drag Bingo is weekly on Thursday’s at Abigail Hall. Come play bingo with Shandi Evans and friends each week for your chance to win prizes (including free hotel stays!!!). \nPLUS each month we’ll be partnering with a different charity to give back to our community that makes Portland so special.
URL:https://www.woodlarkhotel.com/event/drag-bingo-event-2/2026-11-12/
LOCATION:Abigail Hall\, 813 SW Alder St.\, Portland\, 97205\, United States
CATEGORIES:Neighborhood Events,Pop-Up
ATTACH;FMTTYPE=image/png:https://www.woodlarkhotel.com/wp-content/uploads/2026/03/Drag-Bingo-March-Schedule.png
END:VEVENT
END:VCALENDAR